BEGIN:VCALENDAR
VERSION:2.0
PRODID:-//SiMODiSA Digital Portal - ECPv5.0.3.1//NONSGML v1.0//EN
CALSCALE:GREGORIAN
METHOD:PUBLISH
X-WR-CALNAME:SiMODiSA Digital Portal
X-ORIGINAL-URL:https://venturecentral.simodisa.org
X-WR-CALDESC:Events for SiMODiSA Digital Portal
BEGIN:VTIMEZONE
TZID:Africa/Johannesburg
BEGIN:STANDARD
TZOFFSETFROM:+0200
TZOFFSETTO:+0200
TZNAME:SAST
DTSTART:20190101T000000
END:STANDARD
END:VTIMEZONE
BEGIN:VEVENT
DTSTART;TZID=Africa/Johannesburg:20190802T180000
DTEND;TZID=Africa/Johannesburg:20190802T210000
DTSTAMP:20260425T172118
CREATED:20190729T112810Z
LAST-MODIFIED:20190729T112810Z
UID:19786-1564768800-1564779600@venturecentral.simodisa.org
SUMMARY:Women in Blockchain and A.I.
DESCRIPTION:United Africa Blockchain Africa (UABA) is launching its first-ever event on the 2nd of August in Sandton. The title of the event is “Women in Blockchain and A.I.” It will also incorporate the launch of UABA. The main speakers are Yaliwe Soko\, Sumedha Goel\, Louise Wiggett\, and Matshidiso Serokolo. \n
URL:https://venturecentral.simodisa.org/event/women-in-blockchain-and-a-i/
END:VEVENT
END:VCALENDAR