BEGIN:VCALENDAR
VERSION:2.0
PRODID:-//SiMODiSA Digital Portal - ECPv5.0.3.1//NONSGML v1.0//EN
CALSCALE:GREGORIAN
METHOD:PUBLISH
X-WR-CALNAME:SiMODiSA Digital Portal
X-ORIGINAL-URL:https://venturecentral.simodisa.org
X-WR-CALDESC:Events for SiMODiSA Digital Portal
BEGIN:VTIMEZONE
TZID:Africa/Johannesburg
BEGIN:STANDARD
TZOFFSETFROM:+0200
TZOFFSETTO:+0200
TZNAME:SAST
DTSTART:20200101T000000
END:STANDARD
END:VTIMEZONE
BEGIN:VEVENT
DTSTART;VALUE=DATE:20200121
DTEND;VALUE=DATE:20200125
DTSTAMP:20260420T184640
CREATED:20200120T122257Z
LAST-MODIFIED:20200120T122257Z
UID:25556-1579564800-1579910399@venturecentral.simodisa.org
SUMMARY:World Economic Forum - Davos 2020
DESCRIPTION:\n2020 theme: Stakeholders for a Cohesive and Sustainable World \n\n\nThe World Economic Forum Annual Meeting in Davos-Klosters is the foremost creative force for engaging the world’s top leaders in collaborative activities to shape the global\, regional and industry agendas at the beginning of each year. \n\n\nIt will bring together 3\,000 participants from around the world\, and aim to give concrete meaning to “stakeholder capitalism”\, assist governments and international institutions in tracking progress towards the Paris Agreement and the Sustainable Development Goals\, and facilitate discussions on technology and trade governance. \n\n
URL:https://venturecentral.simodisa.org/event/world-economic-forum-davos-2020/
END:VEVENT
END:VCALENDAR