BEGIN:VCALENDAR
VERSION:2.0
PRODID:-//SiMODiSA Digital Portal - ECPv5.0.3.1//NONSGML v1.0//EN
CALSCALE:GREGORIAN
METHOD:PUBLISH
X-WR-CALNAME:SiMODiSA Digital Portal
X-ORIGINAL-URL:https://venturecentral.simodisa.org
X-WR-CALDESC:Events for SiMODiSA Digital Portal
BEGIN:VTIMEZONE
TZID:Africa/Johannesburg
BEGIN:STANDARD
TZOFFSETFROM:+0200
TZOFFSETTO:+0200
TZNAME:SAST
DTSTART:20190101T000000
END:STANDARD
END:VTIMEZONE
BEGIN:VEVENT
DTSTART;TZID=Africa/Johannesburg:20190802T173000
DTEND;TZID=Africa/Johannesburg:20190802T193000
DTSTAMP:20260425T185600
CREATED:20190729T145137Z
LAST-MODIFIED:20190729T145137Z
UID:19811-1564767000-1564774200@venturecentral.simodisa.org
SUMMARY:YocoMeets Durban
DESCRIPTION:Starting your own business is a big\, scary step into the unknown. Fortunately for you\, we have received the low down from thousands of small business owners across the country\, and their advice is simple – Just Start! \nPlease join us in this special edition of #YocoMeets themed around the struggles of starting a business. \nOne theme. One intimate setting. 30 guests. An open session of learning\, networking and connecting. No set agenda and no programme. We want to get to know you as a small business owner. Your “why”. Your “what”. And where you want to go. \nUse the hashtags #YocoMeets #JustStart in your tweets and tag us on Facebook: /YocoZA\, Twitter: @Yoco_ZA or Instagram: @yoco_za and stand a chance to win a Yoco Goodie Bag which includes a book by Heavy Chef and Xero titled “How to start a business in South Africa“. \nSo come grab a beer and a snack and learn from fellow small business owners. \nWe only have 30 tickets available\, so book your spot today. \n
URL:https://venturecentral.simodisa.org/event/yocomeets-durban/
END:VEVENT
END:VCALENDAR