BEGIN:VCALENDAR
VERSION:2.0
PRODID:-//SiMODiSA Digital Portal - ECPv5.0.3.1//NONSGML v1.0//EN
CALSCALE:GREGORIAN
METHOD:PUBLISH
X-WR-CALNAME:SiMODiSA Digital Portal
X-ORIGINAL-URL:https://venturecentral.simodisa.org
X-WR-CALDESC:Events for SiMODiSA Digital Portal
BEGIN:VTIMEZONE
TZID:Africa/Johannesburg
BEGIN:STANDARD
TZOFFSETFROM:+0200
TZOFFSETTO:+0200
TZNAME:SAST
DTSTART:20190101T000000
END:STANDARD
END:VTIMEZONE
BEGIN:VEVENT
DTSTART;TZID=Africa/Johannesburg:20190604T080000
DTEND;TZID=Africa/Johannesburg:20190604T170000
DTSTAMP:20260420T152726
CREATED:20190604T124924Z
LAST-MODIFIED:20190604T124924Z
UID:18223-1559635200-1559667600@venturecentral.simodisa.org
SUMMARY:You Are Speaking to Corporate Wrong! #screwtalksletstrade
DESCRIPTION:The theme for Youth Month: You Are Speaking to Corporate Wrong #screwtalksletstrade  \n\nHow do big brands trust you to DELIVER?\nHow do you SELL your solutions and win big pitches as a small company?\nHow do you raise CASHFLOW to execute on campaigns?\nHow do you NEGOTIATE better payment terms without seeming desperate?\nWHO do you target in corporate when looking for a decision-maker in PR\, Communications and Media buying?\nHow do you GROW beyond project-to-project revenue?\n\nThe Rainmaker Session will be moderated by heavy hitter\, Lorato Tshenkeng\, Managing Director of Decode will lead the session in assisting entrepreneurs to get answers from industry heavyweights who manage big budgets and decide on the direction of PR\, Media and Communications\, namely Nhlanhla Sydney Mbhele\, Chief Executive of Brand for Sanlam and Kagiso Musi\, Managing Director of Meta Media. \nAs usual for #THUDjozi\, a compulsory R150 which includes dinner. Also ensure you bring your business cards\, an awesome smile and willingness to connect\, engage & contribute to each other’s success. \nTHUD is a platform well-positioned through our networking events to connect and engage with decision-makers on behalf of small & growing businesses (SGB’s). Our obsession is to solve 2 big problems that plague businesses: \n\nAccess to Markets\nAccess to Funding\n\nThe THUD events consist of 3 key segments: \n\nTHUD Just Pitch Competition (audience-judged\, elevator pitching crowdfunding/crowdsourcing platform)\nTHUD Networking Mixer (speed networking platform\, facilitating networking opportunities)\nTHUD Rainmakers Sessions (insights-driven short masterclasses with industry rainmakers)\n\n
URL:https://venturecentral.simodisa.org/event/you-are-speaking-to-corporate-wrong-screwtalksletstrade/
END:VEVENT
END:VCALENDAR